BEGIN:VCALENDAR
VERSION:2.0
PRODID:-//Tukios.com/
BEGIN:VEVENT
UID:f9ec0e46-e83d-4587-9219-427044ff2435@www.martinezfuneralhome.com
DTSTAMP:20260421T001849Z
DTSTART:20260426T190000Z
DTEND:20260426T230000Z
SUMMARY:Visitation
DESCRIPTION:
URL:https://www.martinezfuneralhome.com/obituaries/sanchez-mancinas-francisco
LOCATION: 2534 S Pulaski Rd  Chicago IL 60623
GEO:41.8450143;-87.7249384
END:VEVENT
END:VCALENDAR