BEGIN:VCALENDAR
VERSION:2.0
PRODID:-//Tukios.com/
BEGIN:VEVENT
UID:7ce186b2-d95d-4d13-a076-8a97a4457e13@www.martinezfuneralhome.com
DTSTAMP:20260422T234011Z
DTSTART:20260425T190000Z
DTEND:20260425T230000Z
SUMMARY:Visitation
DESCRIPTION:
URL:https://www.martinezfuneralhome.com/obituaries/luis-garnica-ramirez
LOCATION: 2534 S Pulaski Rd  Chicago IL 60623
GEO:41.8450143;-87.7249384
END:VEVENT
END:VCALENDAR