BEGIN:VCALENDAR
VERSION:2.0
PRODID:-//Tukios.com/
BEGIN:VEVENT
UID:31ae9ff5-dc5e-4470-bd6f-f70b96e14a84@www.martinezfuneralhome.com
DTSTAMP:20260421T211338Z
DTSTART:20260424T164500Z
DTEND:20260424T174500Z
SUMMARY:Burial
DESCRIPTION:
URL:https://www.martinezfuneralhome.com/obituaries/luis-blas-hernandez
LOCATION: 1400 S Wolf Rd  Hillside IL 60162
GEO:41.8586124;-87.9056412
END:VEVENT
END:VCALENDAR