BEGIN:VCALENDAR
VERSION:2.0
PRODID:-//Tukios.com/
BEGIN:VEVENT
UID:fe8ac264-2a6f-4cfb-8824-4dcd62d6c0af@www.martinezfuneralhome.com
DTSTAMP:20260421T210820Z
DTSTART:20260424T150000Z
DTEND:20260424T160000Z
SUMMARY:Mass
DESCRIPTION:
URL:https://www.martinezfuneralhome.com/obituaries/luis-blas-hernandez
LOCATION: 2651 S Central Park Ave  Chicago IL 60623
GEO:41.8429133;-87.7146121
END:VEVENT
END:VCALENDAR