BEGIN:VCALENDAR
VERSION:2.0
PRODID:-//Tukios.com/
BEGIN:VEVENT
UID:9c1707b2-deed-4b82-a899-f08e485d5e78@www.martinezfuneralhome.com
DTSTAMP:20260421T210645Z
DTSTART:20260423T200000Z
DTEND:20260424T000000Z
SUMMARY:Visitation
DESCRIPTION:
URL:https://www.martinezfuneralhome.com/obituaries/luis-blas-hernandez
LOCATION: 2534 S Pulaski Rd  Chicago IL 60623
GEO:41.8450143;-87.7249384
END:VEVENT
END:VCALENDAR