BEGIN:VCALENDAR
VERSION:2.0
PRODID:-//Tukios.com/
BEGIN:VEVENT
UID:4a5b454f-579b-41c0-b059-a59f0e256904@www.martinezfuneralhome.com
DTSTAMP:20260422T001053Z
DTSTART:20260425T143000Z
DTEND:20260425T153000Z
SUMMARY:Mass
DESCRIPTION:
URL:https://www.martinezfuneralhome.com/obituaries/bartolo-antunez-bahena
LOCATION:Iglesia Epifania 2524 South Keeler Avenue  Chicago IL 60623
GEO:41.8458579;-87.7298183
END:VEVENT
END:VCALENDAR