BEGIN:VCALENDAR
VERSION:2.0
PRODID:-//Tukios.com/
BEGIN:VEVENT
UID:64b69efa-be9c-4aa1-b091-9d1ce04451d2@www.martinezfuneralhome.com
DTSTAMP:20260422T001607Z
DTSTART:20260425T161500Z
DTEND:20260425T171500Z
SUMMARY:Burial
DESCRIPTION:
URL:https://www.martinezfuneralhome.com/obituaries/bartolo-antunez-bahena
LOCATION: 7201 Archer Rd  Justice IL 60458
GEO:41.7538475;-87.8267292
END:VEVENT
END:VCALENDAR