BEGIN:VCALENDAR
VERSION:2.0
PRODID:-//Tukios.com/
BEGIN:VEVENT
UID:33224cbe-e43c-4c19-9e4d-8ff123da5e7c@www.martinezfuneralhome.com
DTSTAMP:20260422T002259Z
DTSTART:20260424T200000Z
DTEND:20260425T000000Z
SUMMARY:Visitation
DESCRIPTION:
URL:https://www.martinezfuneralhome.com/obituaries/bartolo-antunez-bahena
LOCATION: 2534 S Pulaski Rd  Chicago IL 60623
GEO:41.8450143;-87.7249384
END:VEVENT
END:VCALENDAR